BEGIN:VCALENDAR
VERSION:2.0
PRODID:icalendar-ruby
CALSCALE:GREGORIAN
METHOD:PUBLISH
BEGIN:VEVENT
DTSTAMP:20260423T101731Z
UID:51-352727@nlccav.com
DTSTART:20260425T220000Z
DTEND:20260426T020000Z
CLASS:PUBLIC
CREATED:20260421T155033
DESCRIPTION:
LAST-MODIFIED:20260421T155033
LOCATION:43233 7th St East\, Lancaster Ca. 93535
SUMMARY:Men’s Game Night
URL;VALUE=URI:https://www.nlccav.com/events/men-s-game-night/2026-04-25
ATTACH;FILENAME=att.h006ZYCpUP-8XiuDHiTYfTPRBons1j1BKOV9wkTlGrM.png.jpeg;FM
 TTYPE=image/jpeg:https://dq5pwpg1q8ru0.cloudfront.net/2026/04/21/22/50/33/
 8d515180-22bb-42be-9612-474f6502b29b/att.h006ZYCpUP-8XiuDHiTYfTPRBons1j1BK
 OV9wkTlGrM.png.jpeg
END:VEVENT
END:VCALENDAR
