BEGIN:VCALENDAR
VERSION:2.0
PRODID:icalendar-ruby
CALSCALE:GREGORIAN
METHOD:PUBLISH
BEGIN:VEVENT
DTSTAMP:20260420T100226Z
UID:44-349626@nlccav.com
DTSTART:20260611T130000Z
DTEND:20260611T190000Z
CLASS:PUBLIC
CREATED:20260420T003350
DESCRIPTION:
LAST-MODIFIED:20260420T003350
LOCATION:Phone
SUMMARY:Weekly Prayer Call
URL;VALUE=URI:https://www.nlccav.com/events/weekly-prayer-call/2026-06-11
ATTACH;FILENAME=Church-Flyers.png;FMTTYPE=image/png:https://dq5pwpg1q8ru0.c
 loudfront.net/2026/03/02/18/32/23/306e14e6-7b20-409b-9bce-266747cd81fb/Chu
 rch-Flyers.png
END:VEVENT
END:VCALENDAR
